Workbook
Name les_donnees: Feuil2!$A$1:$R$1705

Sheet Accueil
C3: Outil pour préconisation des machines d'emballage en UVCM
B5: Cet outil a pour but de vous présenter les solutions les plus adaptées à votre ou vos rayons selon que le conditionnement soit réalisé au sein de chaque laboratoire ou dans un laboratoire mutualisé. En fonction de votre CA Prévisionnel, vous aurez 0, 2 ou 3 machines présentées par technologie.
M11: Pour chaque machine, sur la 3ième ligne vous aurez le SKU de la machine, en cliquant dessus vous serez dirigés sur
B13: Contacter un moniteur pour organiser le travail et affiner votre choix, particulièrement pour la mise en place
B16: Pour les durées de vie de chaque produit, il est primordial de consulter les fiches PMS qui sont disponible sur Unisvers en cliquant sur le lien suivant
B18: Fiche PMS
D20: Est | G20: Nord-Ouest | J20: Ouest | M20: Sud
B21: Contact en Boucherie : | D21: Patrik Fullemann : 04-74-45-69-86 | G21: Nicolas Chenu : 02-31-54-15-58 | J21: Guillaume Rochard : 02-28-22-66-93 | M21: Jean-Luc Claudios : 06-42-06-42-42
B22: Contact en Charcuterie, Traiteur / Fromage | D22: Bruno Aubert : 03-89-32-53-05 | G22: Mickael LEBRET : 02-31-54-15-15 | J22: Tanguy BABIN GUIHARD : 02-40-68-46-50 | M22: Léane MORLAT : 07-86-91-26-95
B24: Contact en Poissonnerie : | D24: Jean Michel Formwald : 03-89-32-48-41 | G24: Valérie Jacquin : 02-31-54-15-89 | J24: Thibaut Marion : 02-40-68-44-57 | M24: Léa Hure : 04-67-87-89-83

Sheet Feuil2
A1: PDV | C1: 2 - Secteur d'activité | D1: 0220 | G1: 0245 | M1: 0260 | P1: 0265
D2: FROMAGE A LA COUPE | G2: CHARCT.TRAIT.TRADT. | M2: BOUCH.VOL.ATELIER | P2: POISSONNERIE | T2: PLM | U2: BOUCHERIE | W2: Oui
C3: 3 - Rayon | D3: 022027 | G3: 024543 | J3: 024545 | M3: 026049 | P3: 026552
D4: FROMAGE COUPE EMBALLE | G4: CHARCUTERIE FRAICH EMBALLE PDV | J4: TRAITEUR FRAIS EMBALLE | M4: BOUCHERIE FRAICHE PREEMBALLEE | P4: POISSON FRAIS PREEMBALLE | T4: Fromage | U4: Charcuterie | V4: Traiteur | W4: Boucherie | X4: Poissonnerie
C5: Enseigne | D5: CA TTC | E5: Nb d'UVC vendus | F5: Panier moyen | G5: CA TTC | H5: Nb d'UVC vendus | I5: Panier moyen | J5: CA TTC | K5: Nb d'UVC vendus | L5: Panier moyen | M5: CA TTC | N5: Nb d'UVC vendus | O5: Panier moyen | P5: CA TTC | Q5: Nb d'UVC vendus | R5: Panier moyen
A6: 20015 | B6: SU PARIS CUSTINE | C6: Super U | D6: 2078.36 | E6: 720 | F6: 3.325376 | G6: 562.7 | H6: 248 | I6: 2.4788546 | J6: 5699.11 | K6: 1595 | L6: 4.2184382 | M6: 305.91 | N6: 49 | O6: 6.5087234 | P6: 339602.57 | Q6: 40575 | R6: 10.958103 | T6: =IFERROR(D6/E6,"") -> 2.8866111 | U6: =IFERROR(G6/H6,"") -> 2.2689516 | V6: =IFERROR(J6/K6,"") -> 3.5731097 | W6: =IFERROR(M6/N6,"") -> 6.2430612 | X6: =IFERROR(P6/Q6,"") -> 8.3697491
A7: 20019 | B7: UE ST SAUVEUR LE VICOMTE | C7: U Express | D7: 23778.13 | E7: 6662 | F7: 4.4822111 | G7: 2908.62 | H7: 841 | I7: 3.797154 | J7: 10378.91 | K7: 2219 | L7: 6.1124323 | M7: 350083.69 | N7: 50614 | O7: 11.779001 | P7: 2377.73 | Q7: 548 | R7: 5.7433092 | T7: =IFERROR(D7/E7,"") -> 3.569218 | U7: =IFERROR(G7/H7,"") -> 3.4585256 | V7: =IFERROR(J7/K7,"") -> 4.6772916 | W7: =IFERROR(M7/N7,"") -> 6.9167363 | X7: =IFERROR(P7/Q7,"") -> 4.3389234
A8: 20051 | B8: UE AGON COUTAINVILLE UE | C8: U Express | D8: 30847.63 | E8: 8212 | F8: 4.6144547 | G8: 9757.11 | H8: 3368 | I8: 3.4440911 | J8: 27730.3 | K8: 5271 | L8: 6.3470588 | M8: 80305.65 | N8: 12283 | O8: 9.2157046 | P8: 10158.55 | Q8: 1619 | R8: 7.7724178 | T8: =IFERROR(D8/E8,"") -> 3.7564089 | U8: =IFERROR(G8/H8,"") -> 2.8970042 | V8: =IFERROR(J8/K8,"") -> 5.2609182 | W8: =IFERROR(M8/N8,"") -> 6.5379508 | X8: =IFERROR(P8/Q8,"") -> 6.2745831
A9: 20057 | B9: SU PUTEAUX | C9: Super U | D9: 4013.4 | E9: 1093 | F9: 4.6451389 | G9: 1560.7 | H9: 547 | I9: 3.2312629 | J9: 5222.19 | K9: 1261 | L9: 5.3071037 | M9: 110452.2 | N9: 16136 | O9: 8.9580049 | P9: 21438.54 | Q9: 3834 | R9: 8.1360683 | T9: =IFERROR(D9/E9,"") -> 3.6719122 | U9: =IFERROR(G9/H9,"") -> 2.8531993 | V9: =IFERROR(J9/K9,"") -> 4.1413085 | W9: =IFERROR(M9/N9,"") -> 6.8450793 | X9: =IFERROR(P9/Q9,"") -> 5.5916901
A10: 20060 | B10: UE PARIS POTEAU | C10: U Express | D10: 834.17 | E10: 284 | F10: 3.504916 | G10: 56.06 | H10: 21 | I10: 2.6695238 | J10: 410.02 | K10: 88 | L10: 5.6947222 | M10: 0 | N10: 0 | O10: 0 | P10: 19.95 | Q10: 1 | R10: 19.95 | T10: =IFERROR(D10/E10,"") -> 2.9372183 | U10: =IFERROR(G10/H10,"") -> 2.6695238 | V10: =IFERROR(J10/K10,"") -> 4.6593182 | W10: =IFERROR(M10/N10,"") | X10: =IFERROR(P10/Q10,"") -> 19.95
A11: 20061 | B11: UE CUINCY | C11: U Express | D11: 490.67 | E11: 131 | F11: 4.4606364 | G11: 831.81 | H11: 325 | I11: 2.9084266 | J11: 3589.59 | K11: 800 | L11: 6.1571012 | T11: =IFERROR(D11/E11,"") -> 3.7455725 | U11: =IFERROR(G11/H11,"") -> 2.5594154 | V11: =IFERROR(J11/K11,"") -> 4.4869875 | W11: =IFERROR(M11/N11,"") | X11: =IFERROR(P11/Q11,"")
A12: 20062 | B12: SU 02-RD-21-479 | C12: Super U | T12: =IFERROR(D12/E12,"") | U12: =IFERROR(G12/H12,"") | V12: =IFERROR(J12/K12,"") | W12: =IFERROR(M12/N12,"") | X12: =IFERROR(P12/Q12,"")
A13: 20063 | B13: UE LILLE ISLY | C13: U Express | T13: =IFERROR(D13/E13,"") | U13: =IFERROR(G13/H13,"") | V13: =IFERROR(J13/K13,"") | W13: =IFERROR(M13/N13,"") | X13: =IFERROR(P13/Q13,"")
A14: 20065 | B14: SU DIVES-SUR-MER | C14: Super U | D14: 4557.54 | E14: 1298 | F14: 4.2082548 | G14: 3643.8 | H14: 960 | I14: 4.7445312 | J14: 43601.48 | K14: 4939 | L14: 10.099949 | M14: 1045381.9 | N14: 117591 | O14: 15.322788 | P14: 702.04 | Q14: 87 | R14: 8.4583133 | T14: =IFERROR(D14/E14,"") -> 3.5112018 | U14: =IFERROR(G14/H14,"") -> 3.795625 | V14: =IFERROR(J14/K14,"") -> 8.8279976 | W14: =IFERROR(M14/N14,"") -> 8.8899823 | X14: =IFERROR(P14/Q14,"") -> 8.0694253
A15: 20066 | B15: UE COURBEVOIE | C15: U Express | D15: 505.26 | E15: 137 | F15: 3.8866154 | G15: 135.96 | H15: 55 | I15: 2.6658824 | J15: 7622.97 | K15: 1532 | L15: 5.5642117 | T15: =IFERROR(D15/E15,"") -> 3.6880292 | U15: =IFERROR(G15/H15,"") -> 2.472 | V15: =IFERROR(J15/K15,"") -> 4.975829 | W15: =IFERROR(M15/N15,"") | X15: =IFERROR(P15/Q15,"")
A16: 20067 | B16: UE MEUDON Verdun | C16: U Express | D16: 24.75 | E16: 7 | F16: 4.125 | G16: 0 | H16: 0 | I16: 0 | J16: 0 | K16: 0 | L16: 0 | T16: =IFERROR(D16/E16,"") -> 3.5357143 | U16: =IFERROR(G16/H16,"") | V16: =IFERROR(J16/K16,"") | W16: =IFERROR(M16/N16,"") | X16: =IFERROR(P16/Q16,"")
A17: 20076 | B17: UE PARIS SECRETAN | C17: U Express | T17: =IFERROR(D17/E17,"") | U17: =IFERROR(G17/H17,"") | V17: =IFERROR(J17/K17,"") | W17: =IFERROR(M17/N17,"") | X17: =IFERROR(P17/Q17,"")
A18: 20077 | B18: SU MARLY LE ROI | C18: Super U | D18: 1626.82 | E18: 524 | F18: 3.6889342 | G18: 1511.65 | H18: 569 | I18: 3.0600202 | J18: 3511.45 | K18: 965 | L18: 4.4448734 | M18: 0 | N18: 0 | O18: 0 | P18: 2936.69 | Q18: 302 | R18: 10.232369 | T18: =IFERROR(D18/E18,"") -> 3.1046183 | U18: =IFERROR(G18/H18,"") -> 2.6566784 | V18: =IFERROR(J18/K18,"") -> 3.6388083 | W18: =IFERROR(M18/N18,"") | X18: =IFERROR(P18/Q18,"") -> 9.7241391
A19: 20080 | B19: SU DEUIL LA BARRE | C19: Super U | D19: 69364.17 | E19: 15554 | F19: 5.6238179 | G19: 1856.72 | H19: 393 | I19: 4.9778016 | J19: 5973.1 | K19: 1144 | L19: 5.9433831 | M19: 293578.11 | N19: 43277 | O19: 10.090675 | P19: 49435.04 | Q19: 9457 | R19: 6.9294982 | T19: =IFERROR(D19/E19,"") -> 4.4595712 | U19: =IFERROR(G19/H19,"") -> 4.7244784 | V19: =IFERROR(J19/K19,"") -> 5.2212413 | W19: =IFERROR(M19/N19,"") -> 6.7836983 | X19: =IFERROR(P19/Q19,"") -> 5.2273491
A20: 20081 | B20: UE PARIS CHEMIN VERT | C20: U Express | D20: 826.06 | E20: 267 | F20: 3.4854852 | G20: 122.18 | H20: 44 | I20: 3.3021622 | J20: 26096.83 | K20: 4233 | L20: 6.2929419 | M20: 18.96 | N20: 4 | O20: 6.32 | P20: 0 | Q20: 0 | R20: 0 | T20: =IFERROR(D20/E20,"") -> 3.0938577 | U20: =IFERROR(G20/H20,"") -> 2.7768182 | V20: =IFERROR(J20/K20,"") -> 6.165091 | W20: =IFERROR(M20/N20,"") -> 4.74 | X20: =IFERROR(P20/Q20,"")
A21: 20082 | B21: UE LEVALLOIS-PERRET Wilson | C21: U Express | D21: 1246.57 | E21: 355 | F21: 3.9200314 | G21: 748.97 | H21: 228 | I21: 3.4514747 | J21: 6911.77 | K21: 1472 | L21: 5.529416 | T21: =IFERROR(D21/E21,"") -> 3.5114648 | U21: =IFERROR(G21/H21,"") -> 3.2849561 | V21: =IFERROR(J21/K21,"") -> 4.6954959 | W21: =IFERROR(M21/N21,"") | X21: =IFERROR(P21/Q21,"")
A22: 20085 | B22: SU 02-RD-24-738 | C22: Super U | T22: =IFERROR(D22/E22,"") | U22: =IFERROR(G22/H22,"") | V22: =IFERROR(J22/K22,"") | W22: =IFERROR(M22/N22,"") | X22: =IFERROR(P22/Q22,"")
A23: 20088 | B23: UE 02-RP-19-336 | C23: U Express | T23: =IFERROR(D23/E23,"") | U23: =IFERROR(G23/H23,"") | V23: =IFERROR(J23/K23,"") | W23: =IFERROR(M23/N23,"") | X23: =IFERROR(P23/Q23,"")
A24: 20098 | B24: UE 02-RP-23-698 | C24: U Express | T24: =IFERROR(D24/E24,"") | U24: =IFERROR(G24/H24,"") | V24: =IFERROR(J24/K24,"") | W24: =IFERROR(M24/N24,"") | X24: =IFERROR(P24/Q24,"")
A25: 20102 | B25: UE BRETTEVILLE SUR LAIZE | C25: U Express | D25: 1266.65 | E25: 365 | F25: 3.8152108 | G25: 16536.78 | H25: 3665 | I25: 5.2900768 | J25: 16422.54 | K25: 3231 | L25: 5.8071216 | M25: 54413.73 | N25: 5815 | O25: 10.798518 | P25: 0 | Q25: 0 | R25: 0 | T25: =IFERROR(D25/E25,"") -> 3.470274 | U25: =IFERROR(G25/H25,"") -> 4.5120819 | V25: =IFERROR(J25/K25,"") -> 5.0828041 | W25: =IFERROR(M25/N25,"") -> 9.3574772 | X25: =IFERROR(P25/Q25,"")
A26: 20103 | B26: SU MAGNY-LE-HONGRE | C26: Super U | D26: 12549.83 | E26: 4085 | F26: 3.7563095 | G26: 4695.55 | H26: 1276 | I26: 3.9658361 | J26: 30857.83 | K26: 7344 | L26: 5.707015 | M26: 54029.51 | N26: 8228 | O26: 8.5395148 | P26: 0 | Q26: 0 | R26: 0 | T26: =IFERROR(D26/E26,"") -> 3.0721738 | U26: =IFERROR(G26/H26,"") -> 3.6798981 | V26: =IFERROR(J26/K26,"") -> 4.2017742 | W26: =IFERROR(M26/N26,"") -> 6.5665423 | X26: =IFERROR(P26/Q26,"")
A27: 20105 | B27: SU 02-RD-24-715 | C27: Super U | T27: =IFERROR(D27/E27,"") | U27: =IFERROR(G27/H27,"") | V27: =IFERROR(J27/K27,"") | W27: =IFERROR(M27/N27,"") | X27: =IFERROR(P27/Q27,"")
A28: 20110 | B28: SU AUCHEL | C28: Super U | D28: 71046.23 | E28: 21371 | F28: 5.9462864 | G28: 10046.32 | H28: 2993 | I28: 4.3006507 | J28: 43439.99 | K28: 10236 | L28: 6.5828141 | M28: 351786.99 | N28: 46699 | O28: 13.590905 | P28: 10911.13 | Q28: 2431 | R28: 6.4410449 | T28: =IFERROR(D28/E28,"") -> 3.3244223 | U28: =IFERROR(G28/H28,"") -> 3.3566054 | V28: =IFERROR(J28/K28,"") -> 4.2438443 | W28: =IFERROR(M28/N28,"") -> 7.5330733 | X28: =IFERROR(P28/Q28,"") -> 4.4883299
A29: 20116 | B29: SU LE HAVRE Paul Verlaine | C29: Super U | D29: 53919.75 | E29: 16386 | F29: 4.3295126 | G29: 9252.08 | H29: 3348 | I29: 3.2808794 | J29: 35167.85 | K29: 8014 | L29: 5.4591509 | M29: 372444.52 | N29: 55616 | O29: 10.045163 | P29: 16828.18 | Q29: 4268 | R29: 5.896349 | T29: =IFERROR(D29/E29,"") -> 3.2905987 | U29: =IFERROR(G29/H29,"") -> 2.7634648 | V29: =IFERROR(J29/K29,"") -> 4.3883017 | W29: =IFERROR(M29/N29,"") -> 6.6967153 | X29: =IFERROR(P29/Q29,"") -> 3.9428725
A30: 20140 | B30: SU STE MERE EGLISE | C30: Super U | D30: 119253.82 | E30: 31590 | F30: 5.5937811 | G30: 2617.3 | H30: 709 | I30: 4.2696574 | J30: 62024.45 | K30: 10134 | L30: 8.3332594 | M30: 609310.61 | N30: 75826 | O30: 12.294899 | P30: 35650.59 | Q30: 7253 | R30: 7.6388665 | T30: =IFERROR(D30/E30,"") -> 3.7750497 | U30: =IFERROR(G30/H30,"") -> 3.6915374 | V30: =IFERROR(J30/K30,"") -> 6.1204312 | W30: =IFERROR(M30/N30,"") -> 8.0356423 | X30: =IFERROR(P30/Q30,"") -> 4.9152888
A31: 20161 | B31: UE ANDRESY | C31: U Express | D31: 900.24 | E31: 250 | F31: 3.9833628 | G31: 372.01 | H31: 131 | I31: 3.3215179 | J31: 1872.7 | K31: 447 | L31: 4.6934837 | M31: 6705.52 | N31: 1131 | O31: 7.5854299 | P31: 46.02 | Q31: 6 | R31: 7.67 | T31: =IFERROR(D31/E31,"") -> 3.60096 | U31: =IFERROR(G31/H31,"") -> 2.839771 | V31: =IFERROR(J31/K31,"") -> 4.1894855 | W31: =IFERROR(M31/N31,"") -> 5.9288417 | X31: =IFERROR(P31/Q31,"") -> 7.67
A32: 20163 | B32: UE TORCY LE PETIT | C32: U Express | D32: 2024.93 | E32: 473 | F32: 4.9998272 | G32: 3130.32 | H32: 726 | I32: 5.1655446 | J32: 9144.58 | K32: 1528 | L32: 7.4894185 | M32: 74282.63 | N32: 9823 | O32: 11.824678 | P32: 37.74 | Q32: 8 | R32: 5.3914286 | T32: =IFERROR(D32/E32,"") -> 4.2810359 | U32: =IFERROR(G32/H32,"") -> 4.3117355 | V32: =IFERROR(J32/K32,"") -> 5.9846728 | W32: =IFERROR(M32/N32,"") -> 7.5621124 | X32: =IFERROR(P32/Q32,"") -> 4.7175
A33: 20166 | B33: UE 02 RP 24 770 | C33: U Express | T33: =IFERROR(D33/E33,"") | U33: =IFERROR(G33/H33,"") | V33: =IFERROR(J33/K33,"") | W33: =IFERROR(M33/N33,"") | X33: =IFERROR(P33/Q33,"")
A34: 20167 | B34: UE 02-RP-22-624 | C34: U Express | T34: =IFERROR(D34/E34,"") | U34: =IFERROR(G34/H34,"") | V34: =IFERROR(J34/K34,"") | W34: =IFERROR(M34/N34,"") | X34: =IFERROR(P34/Q34,"")
A35: 20170 | B35: SU LA CHAPELLE-LA-REINE | C35: Super U | D35: 8298.01 | E35: 2105 | F35: 5.1959987 | G35: 145.21 | H35: 48 | I35: 3.5417073 | J35: 3210.52 | K35: 510 | L35: 8.8201099 | M35: 63052.97 | N35: 7730 | O35: 11.95317 | P35: 11705.7 | Q35: 1615 | R35: 11.063989 | T35: =IFERROR(D35/E35,"") -> 3.9420475 | U35: =IFERROR(G35/H35,"") -> 3.0252083 | V35: =IFERROR(J35/K35,"") -> 6.2951373 | W35: =IFERROR(M35/N35,"") -> 8.1569172 | X35: =IFERROR(P35/Q35,"") -> 7.2481115
A36: 20177 | B36: UE LILLE Kennedy | C36: U Express | T36: =IFERROR(D36/E36,"") | U36: =IFERROR(G36/H36,"") | V36: =IFERROR(J36/K36,"") | W36: =IFERROR(M36/N36,"") | X36: =IFERROR(P36/Q36,"")
A37: 20178 | B37: SU COUPVRAY | C37: Super U | T37: =IFERROR(D37/E37,"") | U37: =IFERROR(G37/H37,"") | V37: =IFERROR(J37/K37,"") | W37: =IFERROR(M37/N37,"") | X37: =IFERROR(P37/Q37,"")
A38: 20179 | B38: HU 02-RD-25-840 | C38: Hyper U | T38: =IFERROR(D38/E38,"") | U38: =IFERROR(G38/H38,"") | V38: =IFERROR(J38/K38,"") | W38: =IFERROR(M38/N38,"") | X38: =IFERROR(P38/Q38,"")
A39: 20180 | B39: SU 02-RD-25-839 | C39: Super U | T39: =IFERROR(D39/E39,"") | U39: =IFERROR(G39/H39,"") | V39: =IFERROR(J39/K39,"") | W39: =IFERROR(M39/N39,"") | X39: =IFERROR(P39/Q39,"")
A40: 20181 | B40: SU 02-RD-25-838 | C40: Super U | T40: =IFERROR(D40/E40,"") | U40: =IFERROR(G40/H40,"") | V40: =IFERROR(J40/K40,"") | W40: =IFERROR(M40/N40,"") | X40: =IFERROR(P40/Q40,"")
...

Sheet Feuil1
C1: Code MAGASIN | D1: Magasin
C2: 25908 | D2: HU ABBEVILLE
C3: 90434 | D3: HU AGDE
C4: 30973 | D4: HU AIZENAY
C5: 90232 | D5: HU ALES OLIVIER DE SERRES
C6: 24286 | D6: HU BARALLE MARQUION HU
C7: 31562 | D7: HU BAULE
C8: 25827 | D8: HU BIACHE ST VAAST
C9: 36645 | D9: HU BLAIN
C10: 25384 | D10: HU BLAINVILLE/ORNE
C11: 31438 | D11: HU BOULAZAC
C12: 37617 | D12: HU BOURGUEIL
C13: 26440 | D13: HU BRIE COMTE ROBERT HU
... C1175: 24758 | D1175: UE YVETOT

Sheet TDB
K3: =IFERROR(VLOOKUP(H3,Feuil2!A:B,2,FALSE),"")
C6: Chiffres en 2025
T7: =VLOOKUP(H3,Feuil2!A:X,24,FALSE) -> #N/A
E8: CA UVCM en Poissonnerie : | F8: =IFERROR(VLOOKUP(H3,les_donnees,16,FALSE),"") | J8: CA UVCM en Boucherie : | K8: =IFERROR(VLOOKUP(H3,les_donnees,13,FALSE),"") | T8: =VLOOKUP(H3,Feuil2!A:X,23,FALSE) -> #N/A
T9: =VLOOKUP(H3,Feuil2!A:X,22,FALSE) -> #N/A
E10: Nb de barquettes moyen UVCM en Poissonnerie : | F10: =IFERROR(F8/T7,"") | J10: Nb de barquettes UVCM en Boucherie : | K10: =IFERROR(K8/T8,"") | T10: =VLOOKUP(H3,Feuil2!A:X,21,FALSE) -> #N/A
T11: =VLOOKUP(H3,Feuil2!A:X,20,FALSE) -> #N/A
E13: CA UVCM en Fromage : | F13: =IFERROR(VLOOKUP(H3,les_donnees,4,FALSE),"") | J13: CA UVCM en Charcuterie : | K13: =IFERROR(VLOOKUP(H3,les_donnees,7,FALSE),"") | T13: =O14/O15 -> #DIV/0!
J14: CA UVCM enTraiteur : | K14: =IFERROR(VLOOKUP(H3,les_donnees,10,FALSE),"") | L14: CA UVCM en Charcuterie/Traiteur : | O14: =IFERROR(K14+K13,"") -> 0
E15: Nb de barquettes moyen UVCM en Fromage : | F15: =IFERROR(F13/T11,"") | J15: Nb de barquettes UVCM en Charcuterie : | K15: =IFERROR(K13/T10,"") | N15: Nb de barquettes UVCM enTraiteur : | O15: =IFERROR(K15+K16,"") -> 0
J16: Nb de barquettes UVCM enTraiteur : | K16: =IFERROR(K14/T9,"")
G19: Nombre de barquettes totales : | I19: =IFERROR(F10+F15+K16+K15+K10,"") -> 0
C23: Projection
G25: Disposeriez-vous d'une salle mutualisée (pour tous les rayons) vous réaliser vos emballages : | I25: Oui
G27: =IFERROR(IF(I25="Oui","Pour emballer, de combien de m² au sol disposez vous ?",""),"") -> Pour emballer, de combien de m² au sol disposez vous ? | K27: =IF(I27="","",IF(I27<20,"Votre surface est petite trop pour détenir une machine",""))
G32: Renseigner votre potentiel CA UVCM annuel en Poissonnerie : | K32: Nombre de barquette moyen* : | N32: =IFERROR(I32/T7,"")
K33: =IF(I25="Non","*Préconisation PLM dispo à partir de 2 300 barquettes","")
G34: Renseigner votre potentiel CA UVCM annuel en Boucherie : | K34: Nombre de barquette moyen** : | N34: =IFERROR(I34/T8,"")
K35: =IF(I25="Non","*Préconisation BVO dispo à partir de 2 800 barquettes","")
G36: Renseigner votre potentiel CA UVCM annuel en Fromagerie : | K36: Nombre de barquette moyen** : | N36: =IFERROR(I36/T11,"")
K37: =IF(I25="Non","*Préconisation fc dispo à partir de 2 300 barquettes","")
G38: Renseigner votre potentiel CA UVCM annuel en Charcuterie / Traiteur : | K38: Nombre de barquette moyen** : | N38: =IFERROR(I38/T13,"")
K39: =IF(I25="Non","*Préconisation CTT dispo à partir de 2 300 barquettes","")
G42: Nombre de barquettes totales : | I42: =IFERROR(N32+N34+N36+N38,"") -> 0
K45: =IF(I25="Oui","*Préconisation dispo à partir de 6 400 barquettes totale","") -> *Préconisation dispo à partir de 6 400 barquettes totale

Sheet Choix

Sheet test
A1: Recommandation
B4: Les technologies se trouvent les unes en dessous des autres. Si vous n'avez pas de machine préconisée pour le sous-atmosphère, il vous faut regarder en dessous pour voir quelle technologie correspond le mieux à votre besoin. Pour le % de capacité d'emballe = Le chiffre correspond au nombre de barquettes prévisionnelles sur le nombre de barquette que la machine peut réaliser
A6: Sous atmosphère
A8: SOUS MAP | I8: SOUS MAP | Q8: SOUS MAP
F9: Informations MACHINE 1 | N9: Informations MACHINE 2 | V9: Informations MACHINE 3
F11: Nom : | G11: {=IFERROR(INDEX(tableau!M:M,LARGE(IF((tableau!A:A=test!A8)*(TDB!I42>=tableau!J:J)*(TDB!I42<=tableau!K:K),ROW(tableau!M:M),""),1)),"Pas de Machine Sous Atmosphère de disponible par rapport à votre nombre de barquette")} -> Pas de Machine Sous Atmosphère de disponible par rapport à votre nombre de barquette | N11: Nom : | O11: {=IFERROR(INDEX(tableau!N:N,LARGE(IF((tableau!A:A=test!A8)*(TDB!I42>=tableau!J:J)*(TDB!I42<=tableau!K:K),ROW(tableau!N:N),""),1)),"Pas de Machine Sous Atmosphère de disponible par rapport à votre nombre de barquette")} -> Pas de Machine Sous Atmosphère de disponible par rapport à votre nombre de barquette | V11: Nom : | W11: {=IFERROR(INDEX(tableau!O:O,LARGE(IF((tableau!A:A=test!A8)*(TDB!I42>=tableau!J:J)*(TDB!I42<=tableau!K:K),ROW(tableau!O:O),""),1)),"Pas de Machine Sous Atmosphère de disponible par rapport à votre nombre de barquette")} -> Pas de Machine Sous Atmosphère de disponible par rapport à votre nombre de barquette
F13: Fournisseur: | G13: =IFERROR(HLOOKUP(G11,'Référencement'!B7:AH39,5,FALSE),"") | N13: Fournisseur: | O13: =IFERROR(HLOOKUP(O11,'Référencement'!B7:AO39,5,FALSE),"") | V13: Fournisseur: | W13: =IFERROR(HLOOKUP(W11,'Référencement'!B7:AW39,5,FALSE),"")
F14: Lien sur Catanoma : | G14: =IFERROR(HYPERLINK(TRIM(HLOOKUP(G11,'Référencement'!B7:AH55,38,FALSE)), TRIM(HLOOKUP(G11,'Référencement'!B7:AH39,7,FALSE))),"") | N14: Lien sur Catanoma : | O14: =IFERROR(HYPERLINK(TRIM(HLOOKUP(O11,'Référencement'!B7:AO55,38,FALSE)), TRIM(HLOOKUP(O11,'Référencement'!B7:AO39,7,FALSE))),"") | V14: Lien sur Catanoma : | W14: =IFERROR(HYPERLINK(TRIM(HLOOKUP(W11,'Référencement'!B7:AW55,38,FALSE)), TRIM(HLOOKUP(W11,'Référencement'!B7:AW39,7,FALSE))),"")
F15: DLC produits PLM (découpe poisson, poisson entier) | G15: =IFERROR(HLOOKUP(G11,'Référencement'!B7:AH39,8,FALSE),"") | N15: DLC produits PLM (découpe poisson, poisson entier) | O15: =IFERROR(HLOOKUP(O11,'Référencement'!B7:AH39,8,FALSE),"") | V15: DLC produits PLM (découpe poisson, poisson entier) | W15: =IFERROR(HLOOKUP(W11,'Référencement'!B7:AH39,8,FALSE),"")
F16: DLC produits BVO MAX | G16: =IFERROR(HLOOKUP(G11,'Référencement'!B7:AH39,9,FALSE),"") | N16: DLC produits BVO MAX | O16: =IFERROR(HLOOKUP(O11,'Référencement'!B7:AO39,9,FALSE),"") | V16: DLC produits BVO MAX | W16: =IFERROR(HLOOKUP(W11,'Référencement'!B7:AW39,9,FALSE),"")
F17: Type | G17: =IFERROR(HLOOKUP(G11,'Référencement'!B7:AH39,10,FALSE),"") | N17: Type | O17: =IFERROR(HLOOKUP(O11,'Référencement'!B7:AO39,10,FALSE),"") | V17: Type | W17: =IFERROR(HLOOKUP(W11,'Référencement'!B7:AW39,10,FALSE),"")
F18: Format barquettes inclus | G18: =IFERROR(HLOOKUP(G11,'Référencement'!B7:AH39,11,FALSE),"") | N18: Format barquettes inclus | O18: =IFERROR(HLOOKUP(O11,'Référencement'!B7:AO39,11,FALSE),"") | V18: Format barquettes inclus | W18: =IFERROR(HLOOKUP(W11,'Référencement'!B7:AW39,11,FALSE),"")
F19: Cadence (Barquettes / mn) | G19: =IFERROR(HLOOKUP(G11,'Référencement'!B7:AH39,12,FALSE),"") | N19: Cadence (Barquettes / mn) | O19: =IFERROR(HLOOKUP(O11,'Référencement'!B7:AO39,12,FALSE),"") | V19: Cadence (Barquettes / mn) | W19: =IFERROR(HLOOKUP(W11,'Référencement'!B7:AW39,12,FALSE),"")
C20: % de capacité d'emballage : | D20: =IFERROR(TDB!I42/HLOOKUP(test!G11,'Référencement'!B7:AH43,36,FALSE),"") | K20: % de capacité d'emballage : | L20: =IFERROR(TDB!I42/HLOOKUP(test!O11,'Référencement'!B7:AH43,36,FALSE),"") | S20: % de capacité d'emballage : | T20: =IFERROR(TDB!I42/HLOOKUP(test!W11,'Référencement'!B7:AH43,36,FALSE),"")
F21: Prix | N21: Prix | V21: Prix
A22: =IF(D20="","",IF(D20>1,"Attention capacité d'emballage dépassée","")) | I22: =IF(L20="","",IF(L20>1,"Attention capacité d'emballage dépassée","")) | Q22: =IF(T20="","",IF(T20>1,"Attention capacité d'emballage dépassée",""))
F23: Prix Matériel HT | G23: =IFERROR(HLOOKUP(G11,'Référencement'!B7:AH39,13,FALSE),"") | N23: Prix Matériel HT | O23: =IFERROR(HLOOKUP(O11,'Référencement'!B7:AO39,13,FALSE),"") | V23: Prix Matériel HT | W23: =IFERROR(HLOOKUP(W11,'Référencement'!B7:AW39,13,FALSE),"")
F25: Prix équipement total HT (Prix Matériel + Pesage + Installation GAZ + Prix compresseur) | G25: =IFERROR(HLOOKUP(G11,'Référencement'!B7:AH39,17,FALSE),"") | N25: Prix équipement total HT (Prix Matériel + Pesage + Installation GAZ + Prix compresseur) | O25: =IFERROR(HLOOKUP(O11,'Référencement'!B7:AO39,17,FALSE),"") | V25: Prix équipement total HT (Prix Matériel + Pesage + Installation GAZ + Prix compresseur) | W25: =IFERROR(HLOOKUP(W11,'Référencement'!B7:AW39,17,FALSE),"")
F26: Prix avec option skin | G26: =IFERROR(HLOOKUP(G11,'Référencement'!B7:AH39,18,FALSE),"") | N26: Prix avec option skin | O26: =IFERROR(HLOOKUP(O11,'Référencement'!B7:AO39,18,FALSE),"") | V26: Prix avec option skin | W26: =IFERROR(HLOOKUP(W11,'Référencement'!B7:AW39,18,FALSE),"")
F27: Coût amortissement matériel sur 5 ans | G27: =IFERROR(HLOOKUP(G11,'Référencement'!B7:AH39,19,FALSE),"") | N27: Coût amortissement matériel sur 5 ans | O27: =IFERROR(HLOOKUP(O11,'Référencement'!B7:AO39,19,FALSE),"") | V27: Coût amortissement matériel sur 5 ans | W27: =IFERROR(HLOOKUP(W11,'Référencement'!B7:AW39,19,FALSE),"")
F28: Prix total HT (équipement + maintenance) sur 5 ans | G28: =IFERROR(HLOOKUP(G11,'Référencement'!B7:AH39,25,FALSE),"") | N28: Prix total HT (équipement + maintenance) sur 5 ans | O28: =IFERROR(HLOOKUP(O11,'Référencement'!B7:AO39,25,FALSE),"") | V28: Prix total HT (équipement + maintenance) sur 5 ans | W28: =IFERROR(HLOOKUP(W11,'Référencement'!B7:AW39,25,FALSE),"")
F29: Prix total HT (équipement + maintenance) sur 1 an | G29: =IFERROR(G28/5,"") -> 0 | N29: Prix total HT (équipement + maintenance) sur 1 an | O29: =IFERROR(O28/5,"") -> 0 | V29: Prix total HT (équipement + maintenance) sur 1 an | W29: =IFERROR(W28/5,"") -> 0
F31: Coût économat | G31: =IFERROR(HLOOKUP(G11,'Référencement'!B7:AH50,31,FALSE),"") | N31: Coût économat | O31: =IFERROR(HLOOKUP(O11,'Référencement'!B7:AO50,31,FALSE),"") | V31: Coût économat | W31: =IFERROR(HLOOKUP(W11,'Référencement'!B7:AW50,31,FALSE),"")
F32: Coût annuel Appro gaz | G32: =IFERROR(HLOOKUP(G11,'Référencement'!B7:AH50,33,FALSE),"") | N32: Coût annuel Appro gaz | O32: =IFERROR(HLOOKUP(O11,'Référencement'!B7:AO50,33,FALSE),"") | V32: Coût annuel Appro gaz | W32: =IFERROR(HLOOKUP(W11,'Référencement'!B7:AW50,33,FALSE),"")
F33: CA ANNUEL EN UVCM MINIMUM POUR ÊTRE RENTABLE | G33: =IFERROR(HLOOKUP(G11,'Référencement'!B7:AH50,37,FALSE),"") | N33: CA ANNUEL EN UVCM MINIMUM POUR ÊTRE RENTABLE | O33: =IFERROR(HLOOKUP(O11,'Référencement'!B7:AO50,37,FALSE),"") | V33: CA ANNUEL EN UVCM MINIMUM POUR ÊTRE RENTABLE | W33: =IFERROR(HLOOKUP(W11,'Référencement'!B7:AW50,37,FALSE),"")
A35: SOUS SKIN
A37: SOUS SKIN | I37: SOUS SKIN | Q37: SOUS SKIN
F38: Informations MACHINE 1 | N38: Informations MACHINE 2 | V38: Informations MACHINE 3
F40: Nom : | G40: {=IFERROR(INDEX(tableau!M:M,LARGE(IF((tableau!A:A=test!A37)*(TDB!I42>=tableau!J:J)*(TDB!I42<=tableau!K:K),ROW(tableau!M:M),""),1)),"Pas de Machine Sous Skin de disponible par rapport à votre nombre de barquette")} -> Pas de Machine Sous Skin de disponible par rapport à votre nombre de barquette | N40: Nom : | O40: {=IFERROR(INDEX(tableau!N:N,LARGE(IF((tableau!A:A=test!A37)*(TDB!I42>=tableau!J:J)*(TDB!I42<=tableau!K:K),ROW(tableau!N:N),""),1)),"Pas de Machine Sous Skin de disponible par rapport à votre nombre de barquette")} -> Pas de Machine Sous Skin de disponible par rapport à votre nombre de barquette | V40: Nom : | W40: {=IFERROR(INDEX(tableau!O:O,LARGE(IF((tableau!A:A=test!A37)*(TDB!I42>=tableau!J:J)*(TDB!I42<=tableau!K:K),ROW(tableau!O:O),""),1)),"Pas de Machine Sous Skin de disponible par rapport à votre nombre de barquette")} -> Pas de Machine Sous Skin de disponible par rapport à votre nombre de barquette
F42: Fournisseur: | G42: =IFERROR(HLOOKUP(G40,'Référencement'!B7:AH39,5,FALSE),"") | N42: Fournisseur: | O42: =IFERROR(HLOOKUP(O40,'Référencement'!B7:AP39,5,FALSE),"") | V42: Fournisseur: | W42: =IFERROR(HLOOKUP(W40,'Référencement'!B7:AX39,5,FALSE),"")
F43: Lien sur Catanoma : | G43: =IFERROR(HYPERLINK(TRIM(HLOOKUP(G40,'Référencement'!B7:AH55,38,FALSE)), TRIM(HLOOKUP(G40,'Référencement'!B7:AH39,7,FALSE))),"") | N43: Lien sur Catanoma : | O43: =IFERROR(HYPERLINK(TRIM(HLOOKUP(O40,'Référencement'!B7:AP55,38,FALSE)), TRIM(HLOOKUP(O40,'Référencement'!B7:AP39,7,FALSE))),"") | V43: Lien sur Catanoma : | W43: =IFERROR(HYPERLINK(TRIM(HLOOKUP(W40,'Référencement'!B7:AX55,38,FALSE)), TRIM(HLOOKUP(W40,'Référencement'!B7:AX39,7,FALSE))),"")
F44: DLC produits PLM (découpe poisson, poisson entier) | G44: =IFERROR(HLOOKUP(G40,'Référencement'!B7:AH39,8,FALSE),"") | N44: DLC produits PLM (découpe poisson, poisson entier) | O44: =IFERROR(HLOOKUP(O40,'Référencement'!B7:AP39,8,FALSE),"") | V44: DLC produits PLM (découpe poisson, poisson entier) | W44: =IFERROR(HLOOKUP(W40,'Référencement'!B7:AX39,8,FALSE),"")
F45: DLC produits BVO MAX | G45: =IFERROR(HLOOKUP(G40,'Référencement'!B7:AH39,9,FALSE),"") | N45: DLC produits BVO MAX | O45: =IFERROR(HLOOKUP(O40,'Référencement'!B7:AP39,9,FALSE),"") | V45: DLC produits BVO MAX | W45: =IFERROR(HLOOKUP(W40,'Référencement'!B7:AX39,9,FALSE),"")
F46: Type | G46: =IFERROR(HLOOKUP(G40,'Référencement'!B7:AH39,10,FALSE),"") | N46: Type | O46: =IFERROR(HLOOKUP(O40,'Référencement'!B7:AP39,10,FALSE),"") | V46: Type | W46: =IFERROR(HLOOKUP(W40,'Référencement'!B7:AX39,10,FALSE),"")
F47: Format barquettes inclus | G47: =IFERROR(HLOOKUP(G40,'Référencement'!B7:AH39,11,FALSE),"") | N47: Format barquettes inclus | O47: =IFERROR(HLOOKUP(O40,'Référencement'!B7:AP39,11,FALSE),"") | V47: Format barquettes inclus | W47: =IFERROR(HLOOKUP(W40,'Référencement'!B7:AX39,11,FALSE),"")
F48: Cadence (Barquettes / mn) | G48: =IFERROR(HLOOKUP(G40,'Référencement'!B7:AH39,12,FALSE),"") | N48: Cadence (Barquettes / mn) | O48: =IFERROR(HLOOKUP(O40,'Référencement'!B7:AP39,12,FALSE),"") | V48: Cadence (Barquettes / mn) | W48: =IFERROR(HLOOKUP(W40,'Référencement'!B7:AX39,12,FALSE),"")
C49: % de capacité d'emballage : | D49: =IFERROR(TDB!I42/HLOOKUP(test!G40,'Référencement'!B7:AH43,36,FALSE),"") | K49: % de capacité d'emballage : | L49: =IFERROR(TDB!I42/HLOOKUP(test!O40,'Référencement'!B7:AH43,36,FALSE),"") | S49: % de capacité d'emballage : | T49: =IFERROR(TDB!I42/HLOOKUP(test!W40,'Référencement'!B7:AH43,36,FALSE),"")
F50: Prix | N50: Prix | V50: Prix
A51: =IF(D49="","",IF(D49>1,"Attention capacité d'emballage dépassée","")) | I51: =IF(L49="","",IF(L49>1,"Attention capacité d'emballage dépassée","")) | Q51: =IF(T49="","",IF(T49>1,"Attention capacité d'emballage dépassée",""))
F52: Prix Matériel HT | G52: =IFERROR(HLOOKUP(G40,'Référencement'!B7:AH39,13,FALSE),"") | N52: Prix Matériel HT | O52: =IFERROR(HLOOKUP(O40,'Référencement'!B7:AP39,13,FALSE),"") | V52: Prix Matériel HT | W52: =IFERROR(HLOOKUP(W40,'Référencement'!B7:AX39,13,FALSE),"")
...

Sheet PLM
A1: Recommandations PLM
B4: Les technologies se trouvent les unes en dessous des autres. Si vous n'avez pas de machine préconisée pour le sous-atmosphère, il vous faut regarder en dessous pour voir quelle technologie correspond le mieux à votre besoin. Pour le % de capacité d'emballe = Le chiffre correspond au nombre de barquettes prévisionnelles sur le nombre de barquette que la machine peut réaliser
A6: Sous atmosphère
A8: SOUS MAP | I8: SOUS MAP | Q8: SOUS MAP
F9: Informations MACHINE 1 | N9: Informations MACHINE 2 | V9: Informations MACHINE 3
F11: Nom : | G11: {=IFERROR(INDEX(tableau!M:M,LARGE(IF((tableau!A:A=PLM!A8)*(TDB!N32>=tableau!B:B)*(TDB!N32<=tableau!C:C),ROW(tableau!M:M),""),1)),"Pas de Machine Sous Atmosphère de disponible par rapport à votre nombre de barquette")} -> Pas de Machine Sous Atmosphère de disponible par rapport à votre nombre de barquette | N11: Nom : | O11: {=IFERROR(INDEX(tableau!N:N,LARGE(IF((tableau!A:A=PLM!A8)*(TDB!N32>=tableau!B:B)*(TDB!N32<=tableau!C:C),ROW(tableau!N:N),""),1)),"Pas de Machine Sous Atmosphère de disponible par rapport à votre nombre de barquette")} -> Pas de Machine Sous Atmosphère de disponible par rapport à votre nombre de barquette | V11: Nom : | W11: {=IFERROR(INDEX(tableau!O:O,LARGE(IF((tableau!A:A=PLM!A8)*(TDB!N32>=tableau!B:B)*(TDB!N32<=tableau!C:C),ROW(tableau!O:O),""),1)),"Pas de Machine Sous Atmosphère de disponible par rapport à votre nombre de barquette")} -> Pas de Machine Sous Atmosphère de disponible par rapport à votre nombre de barquette
F13: Fournisseur: | G13: =IFERROR(HLOOKUP(G11,'Référencement'!B7:AH39,5,FALSE),"") | N13: Fournisseur: | O13: =IFERROR(HLOOKUP(O11,'Référencement'!B7:AO39,5,FALSE),"") | V13: Fournisseur: | W13: =IFERROR(HLOOKUP(W11,'Référencement'!B7:AW39,5,FALSE),"")
F14: Lien sur Catanoma : | G14: =IFERROR(HYPERLINK(TRIM(HLOOKUP(G11,'Référencement'!B7:AH55,38,FALSE)), TRIM(HLOOKUP(G11,'Référencement'!B7:AH39,7,FALSE))),"") | N14: Lien sur Catanoma : | O14: =IFERROR(HYPERLINK(TRIM(HLOOKUP(O11,'Référencement'!B7:AO55,38,FALSE)), TRIM(HLOOKUP(O11,'Référencement'!B7:AO39,7,FALSE))),"") | V14: Lien sur Catanoma : | W14: =IFERROR(HYPERLINK(TRIM(HLOOKUP(W11,'Référencement'!B7:AW55,38,FALSE)), TRIM(HLOOKUP(W11,'Référencement'!B7:AW39,7,FALSE))),"")
F15: DLC produits PLM (découpe poisson, poisson entier) | G15: =IFERROR(HLOOKUP(G11,'Référencement'!B7:AH39,8,FALSE),"") | N15: DLC produits PLM (découpe poisson, poisson entier) | O15: =IFERROR(HLOOKUP(O11,'Référencement'!B7:AH39,8,FALSE),"") | V15: DLC produits PLM (découpe poisson, poisson entier) | W15: =IFERROR(HLOOKUP(W11,'Référencement'!B7:AH39,8,FALSE),"")
F16: DLC produits BVO MAX | G16: =IFERROR(HLOOKUP(G11,'Référencement'!B7:AH39,9,FALSE),"") | N16: DLC produits BVO MAX | O16: =IFERROR(HLOOKUP(O11,'Référencement'!B7:AO39,9,FALSE),"") | V16: DLC produits BVO MAX | W16: =IFERROR(HLOOKUP(W11,'Référencement'!B7:AW39,9,FALSE),"")
F17: Type | G17: =IFERROR(HLOOKUP(G11,'Référencement'!B7:AH39,10,FALSE),"") | N17: Type | O17: =IFERROR(HLOOKUP(O11,'Référencement'!B7:AO39,10,FALSE),"") | V17: Type | W17: =IFERROR(HLOOKUP(W11,'Référencement'!B7:AW39,10,FALSE),"")
F18: Format barquettes inclus | G18: =IFERROR(HLOOKUP(G11,'Référencement'!B7:AH39,11,FALSE),"") | N18: Format barquettes inclus | O18: =IFERROR(HLOOKUP(O11,'Référencement'!B7:AO39,11,FALSE),"") | V18: Format barquettes inclus | W18: =IFERROR(HLOOKUP(W11,'Référencement'!B7:AW39,11,FALSE),"")
F19: Cadence (Barquettes / mn) | G19: =IFERROR(HLOOKUP(G11,'Référencement'!B7:AH39,12,FALSE),"") | N19: Cadence (Barquettes / mn) | O19: =IFERROR(HLOOKUP(O11,'Référencement'!B7:AO39,12,FALSE),"") | V19: Cadence (Barquettes / mn) | W19: =IFERROR(HLOOKUP(W11,'Référencement'!B7:AW39,12,FALSE),"")
C20: % de capacité d'emballage : | D20: =IFERROR(TDB!N32/HLOOKUP(PLM!G11,'Référencement'!B7:AH43,36,FALSE),"") | K20: % de capacité d'emballage : | L20: =IFERROR(TDB!N32/HLOOKUP(PLM!O11,'Référencement'!B7:AH43,36,FALSE),"") | S20: % de capacité d'emballage : | T20: =IFERROR(TDB!N32/HLOOKUP(PLM!W11,'Référencement'!B7:AH43,36,FALSE),"")
F21: Prix | N21: Prix | V21: Prix
A22: =IF(D20="","",IF(D20>1,"Attention capacité d'emballage dépassée","")) | I22: =IF(L20="","",IF(L20>1,"Attention capacité d'emballage dépassée","")) | Q22: =IF(T20="","",IF(T20>1,"Attention capacité d'emballage dépassée",""))
F23: Prix Matériel HT | G23: =IFERROR(HLOOKUP(G11,'Référencement'!B7:AH39,13,FALSE),"") | N23: Prix Matériel HT | O23: =IFERROR(HLOOKUP(O11,'Référencement'!B7:AO39,13,FALSE),"") | V23: Prix Matériel HT | W23: =IFERROR(HLOOKUP(W11,'Référencement'!B7:AW39,13,FALSE),"")
F25: Prix équipement total HT (Prix Matériel + Pesage + Installation GAZ + Prix compresseur) | G25: =IFERROR(HLOOKUP(G11,'Référencement'!B7:AH39,17,FALSE),"") | N25: Prix équipement total HT (Prix Matériel + Pesage + Installation GAZ + Prix compresseur) | O25: =IFERROR(HLOOKUP(O11,'Référencement'!B7:AO39,17,FALSE),"") | V25: Prix équipement total HT (Prix Matériel + Pesage + Installation GAZ + Prix compresseur) | W25: =IFERROR(HLOOKUP(W11,'Référencement'!B7:AW39,17,FALSE),"")
F26: Prix avec option skin | G26: =IFERROR(HLOOKUP(G11,'Référencement'!B7:AH39,18,FALSE),"") | N26: Prix avec option skin | O26: =IFERROR(HLOOKUP(O11,'Référencement'!B7:AO39,18,FALSE),"") | V26: Prix avec option skin | W26: =IFERROR(HLOOKUP(W11,'Référencement'!B7:AW39,18,FALSE),"")
F27: Coût amortissement matériel sur 5 ans | G27: =IFERROR(HLOOKUP(G11,'Référencement'!B7:AH39,19,FALSE),"") | N27: Coût amortissement matériel sur 5 ans | O27: =IFERROR(HLOOKUP(O11,'Référencement'!B7:AO39,19,FALSE),"") | V27: Coût amortissement matériel sur 5 ans | W27: =IFERROR(HLOOKUP(W11,'Référencement'!B7:AW39,19,FALSE),"")
F28: Prix total HT (équipement + maintenance) sur 5 ans | G28: =IFERROR(HLOOKUP(G11,'Référencement'!B7:AH39,25,FALSE),"") | N28: Prix total HT (équipement + maintenance) sur 5 ans | O28: =IFERROR(HLOOKUP(O11,'Référencement'!B7:AO39,25,FALSE),"") | V28: Prix total HT (équipement + maintenance) sur 5 ans | W28: =IFERROR(HLOOKUP(W11,'Référencement'!B7:AW39,25,FALSE),"")
F29: Prix total HT (équipement + maintenance) sur 1 an | G29: =IFERROR(G28/5,"") -> 0 | N29: Prix total HT (équipement + maintenance) sur 1 an | O29: =IFERROR(O28/5,"") -> 0 | V29: Prix total HT (équipement + maintenance) sur 1 an | W29: =IFERROR(W28/5,"") -> 0
F31: Coût économat | G31: =IFERROR(HLOOKUP(G11,'Référencement'!B7:AH50,31,FALSE),"") | N31: Coût économat | O31: =IFERROR(HLOOKUP(O11,'Référencement'!B7:AO50,31,FALSE),"") | V31: Coût économat | W31: =IFERROR(HLOOKUP(W11,'Référencement'!B7:AW50,31,FALSE),"")
F32: Coût annuel Appro gaz | G32: =IFERROR(HLOOKUP(G11,'Référencement'!B7:AH50,33,FALSE),"") | N32: Coût annuel Appro gaz | O32: =IFERROR(HLOOKUP(O11,'Référencement'!B7:AO50,33,FALSE),"") | V32: Coût annuel Appro gaz | W32: =IFERROR(HLOOKUP(W11,'Référencement'!B7:AW50,33,FALSE),"")
F33: CA ANNUEL EN UVCM MINIMUM POUR ÊTRE RENTABLE | G33: =IFERROR(HLOOKUP(G11,'Référencement'!B7:AH50,37,FALSE),"") | N33: CA ANNUEL EN UVCM MINIMUM POUR ÊTRE RENTABLE | O33: =IFERROR(HLOOKUP(O11,'Référencement'!B7:AO50,37,FALSE),"") | V33: CA ANNUEL EN UVCM MINIMUM POUR ÊTRE RENTABLE | W33: =IFERROR(HLOOKUP(W11,'Référencement'!B7:AW50,37,FALSE),"")
A35: SOUS SKIN
A37: SOUS SKIN | I37: SOUS SKIN | Q37: SOUS SKIN
F38: Informations MACHINE 1 | N38: Informations MACHINE 2 | V38: Informations MACHINE 3
F40: Nom : | G40: {=IFERROR(INDEX(tableau!M:M,LARGE(IF((tableau!A:A=PLM!A37)*(TDB!N32>=tableau!B:B)*(TDB!N32<=tableau!C:C),ROW(tableau!M:M),""),1)),"Pas de Machine Sous Skin de disponible par rapport à votre nombre de barquette")} -> Pas de Machine Sous Skin de disponible par rapport à votre nombre de barquette | N40: Nom : | O40: {=IFERROR(INDEX(tableau!N:N,LARGE(IF((tableau!A:A=PLM!A37)*(TDB!N32>=tableau!B:B)*(TDB!N32<=tableau!C:C),ROW(tableau!N:N),""),1)),"Pas de Machine Sous Skin de disponible par rapport à votre nombre de barquette")} -> Pas de Machine Sous Skin de disponible par rapport à votre nombre de barquette | V40: Nom : | W40: {=IFERROR(INDEX(tableau!O:O,LARGE(IF((tableau!A:A=PLM!A37)*(TDB!N32>=tableau!B:B)*(TDB!N32<=tableau!C:C),ROW(tableau!O:O),""),1)),"Pas de Machine Sous Skin de disponible par rapport à votre nombre de barquette")} -> Pas de Machine Sous Skin de disponible par rapport à votre nombre de barquette
F42: Fournisseur: | G42: =IFERROR(HLOOKUP(G40,'Référencement'!B7:AH39,5,FALSE),"") | N42: Fournisseur: | O42: =IFERROR(HLOOKUP(O40,'Référencement'!B7:AP39,5,FALSE),"") | V42: Fournisseur: | W42: =IFERROR(HLOOKUP(W40,'Référencement'!B7:AX39,5,FALSE),"")
F43: Lien sur Catanoma : | G43: =IFERROR(HYPERLINK(TRIM(HLOOKUP(G40,'Référencement'!B7:AH55,38,FALSE)), TRIM(HLOOKUP(G40,'Référencement'!B7:AH39,7,FALSE))),"") | N43: Lien sur Catanoma : | O43: =IFERROR(HYPERLINK(TRIM(HLOOKUP(O40,'Référencement'!B7:AP55,38,FALSE)), TRIM(HLOOKUP(O40,'Référencement'!B7:AP39,7,FALSE))),"") | V43: Lien sur Catanoma : | W43: =IFERROR(HYPERLINK(TRIM(HLOOKUP(W40,'Référencement'!B7:AX55,38,FALSE)), TRIM(HLOOKUP(W40,'Référencement'!B7:AX39,7,FALSE))),"")
F44: DLC produits PLM (découpe poisson, poisson entier) | G44: =IFERROR(HLOOKUP(G40,'Référencement'!B7:AH39,8,FALSE),"") | N44: DLC produits PLM (découpe poisson, poisson entier) | O44: =IFERROR(HLOOKUP(O40,'Référencement'!B7:AP39,8,FALSE),"") | V44: DLC produits PLM (découpe poisson, poisson entier) | W44: =IFERROR(HLOOKUP(W40,'Référencement'!B7:AX39,8,FALSE),"")
F45: DLC produits BVO MAX | G45: =IFERROR(HLOOKUP(G40,'Référencement'!B7:AH39,9,FALSE),"") | N45: DLC produits BVO MAX | O45: =IFERROR(HLOOKUP(O40,'Référencement'!B7:AP39,9,FALSE),"") | V45: DLC produits BVO MAX | W45: =IFERROR(HLOOKUP(W40,'Référencement'!B7:AX39,9,FALSE),"")
F46: Type | G46: =IFERROR(HLOOKUP(G40,'Référencement'!B7:AH39,10,FALSE),"") | N46: Type | O46: =IFERROR(HLOOKUP(O40,'Référencement'!B7:AP39,10,FALSE),"") | V46: Type | W46: =IFERROR(HLOOKUP(W40,'Référencement'!B7:AX39,10,FALSE),"")
F47: Format barquettes inclus | G47: =IFERROR(HLOOKUP(G40,'Référencement'!B7:AH39,11,FALSE),"") | N47: Format barquettes inclus | O47: =IFERROR(HLOOKUP(O40,'Référencement'!B7:AP39,11,FALSE),"") | V47: Format barquettes inclus | W47: =IFERROR(HLOOKUP(W40,'Référencement'!B7:AX39,11,FALSE),"")
F48: Cadence (Barquettes / mn) | G48: =IFERROR(HLOOKUP(G40,'Référencement'!B7:AH39,12,FALSE),"") | N48: Cadence (Barquettes / mn) | O48: =IFERROR(HLOOKUP(O40,'Référencement'!B7:AP39,12,FALSE),"") | V48: Cadence (Barquettes / mn) | W48: =IFERROR(HLOOKUP(W40,'Référencement'!B7:AX39,12,FALSE),"")
C49: % de capacité d'emballage : | D49: =IFERROR(TDB!N32/HLOOKUP(PLM!G40,'Référencement'!B7:AH43,36,FALSE),"") | K49: % de capacité d'emballage : | L49: =IFERROR(TDB!N32/HLOOKUP(PLM!O40,'Référencement'!B7:AH43,36,FALSE),"") | S49: % de capacité d'emballage : | T49: =IFERROR(TDB!N32/HLOOKUP(PLM!W40,'Référencement'!B7:AH43,36,FALSE),"")
F50: Prix | N50: Prix | V50: Prix
A51: =IF(D49="","",IF(D49>1,"Attention capacité d'emballage dépassée","")) | I51: =IF(L49="","",IF(L49>1,"Attention capacité d'emballage dépassée","")) | Q51: =IF(T49="","",IF(T49>1,"Attention capacité d'emballage dépassée",""))
F52: Prix Matériel HT | G52: =IFERROR(HLOOKUP(G40,'Référencement'!B7:AH39,13,FALSE),"") | N52: Prix Matériel HT | O52: =IFERROR(HLOOKUP(O40,'Référencement'!B7:AP39,13,FALSE),"") | V52: Prix Matériel HT | W52: =IFERROR(HLOOKUP(W40,'Référencement'!B7:AX39,13,FALSE),"")
...

Sheet CTT
A1: Recommandations CTT
B4: Les technologies se trouvent les unes en dessous des autres. Si vous n'avez pas de machine préconisée pour le sous-atmosphère, il vous faut regarder en dessous pour voir quelle technologie correspond le mieux à votre besoin. Pour le % de capacité d'emballe = Le chiffre correspond au nombre de barquettes prévisionnelles sur le nombre de barquette que la machine peut réaliser
A6: Sous atmosphère
A8: SOUS MAP | I8: SOUS MAP | Q8: SOUS MAP
F9: Informations MACHINE 1 | N9: Informations MACHINE 2 | V9: Informations MACHINE 3
F11: Nom : | G11: {=IFERROR(INDEX(tableau!M:M,LARGE(IF((tableau!A:A=CTT!A8)*(TDB!N38>=tableau!F:F)*(TDB!N38<=tableau!G:G),ROW(tableau!M:M),""),1)),"Pas de Machine Sous Atmosphère de disponible par rapport à votre nombre de barquette")} -> Pas de Machine Sous Atmosphère de disponible par rapport à votre nombre de barquette | N11: Nom : | O11: {=IFERROR(INDEX(tableau!N:N,LARGE(IF((tableau!A:A=CTT!A8)*(TDB!N38>=tableau!F:F)*(TDB!N38<=tableau!G:G),ROW(tableau!N:N),""),1)),"Pas de Machine Sous Atmosphère de disponible par rapport à votre nombre de barquette")} -> Pas de Machine Sous Atmosphère de disponible par rapport à votre nombre de barquette | V11: Nom : | W11: {=IFERROR(INDEX(tableau!O:O,LARGE(IF((tableau!A:A=CTT!A8)*(TDB!N38>=tableau!F:F)*(TDB!N38<=tableau!G:G),ROW(tableau!O:O),""),1)),"Pas de Machine Sous Atmosphère de disponible par rapport à votre nombre de barquette")} -> Pas de Machine Sous Atmosphère de disponible par rapport à votre nombre de barquette
F13: Fournisseur: | G13: =IFERROR(HLOOKUP(G11,'Référencement'!B7:AH39,5,FALSE),"") | N13: Fournisseur: | O13: =IFERROR(HLOOKUP(O11,'Référencement'!B7:AO39,5,FALSE),"") | V13: Fournisseur: | W13: =IFERROR(HLOOKUP(W11,'Référencement'!B7:AW39,5,FALSE),"")
F14: Lien sur Catanoma : | G14: =IFERROR(HYPERLINK(TRIM(HLOOKUP(G11,'Référencement'!B7:AH55,38,FALSE)), TRIM(HLOOKUP(G11,'Référencement'!B7:AH39,7,FALSE))),"") | N14: Lien sur Catanoma : | O14: =IFERROR(HYPERLINK(TRIM(HLOOKUP(O11,'Référencement'!B7:AO55,38,FALSE)), TRIM(HLOOKUP(O11,'Référencement'!B7:AO39,7,FALSE))),"") | V14: Lien sur Catanoma : | W14: =IFERROR(HYPERLINK(TRIM(HLOOKUP(W11,'Référencement'!B7:AW55,38,FALSE)), TRIM(HLOOKUP(W11,'Référencement'!B7:AW39,7,FALSE))),"")
F15: DLC produits PLM (découpe poisson, poisson entier) | G15: =IFERROR(HLOOKUP(G11,'Référencement'!B7:AH39,8,FALSE),"") | N15: DLC produits PLM (découpe poisson, poisson entier) | O15: =IFERROR(HLOOKUP(O11,'Référencement'!B7:AH39,8,FALSE),"") | V15: DLC produits PLM (découpe poisson, poisson entier) | W15: =IFERROR(HLOOKUP(W11,'Référencement'!B7:AH39,8,FALSE),"")
F16: DLC produits CTT MAX | G16: =IFERROR(HLOOKUP(G11,'Référencement'!B7:AI46,39,FALSE),"") | N16: DLC produits CTT MAX | O16: =IFERROR(HLOOKUP(O11,'Référencement'!B7:AI46,39,FALSE),"") | V16: DLC produits CTT MAX | W16: =IFERROR(HLOOKUP(W11,'Référencement'!B7:AI46,39,FALSE),"")
F17: Type | G17: =IFERROR(HLOOKUP(G11,'Référencement'!B7:AH39,10,FALSE),"") | N17: Type | O17: =IFERROR(HLOOKUP(O11,'Référencement'!B7:AO39,10,FALSE),"") | V17: Type | W17: =IFERROR(HLOOKUP(W11,'Référencement'!B7:AW39,10,FALSE),"")
F18: Format barquettes inclus | G18: =IFERROR(HLOOKUP(G11,'Référencement'!B7:AH39,11,FALSE),"") | N18: Format barquettes inclus | O18: =IFERROR(HLOOKUP(O11,'Référencement'!B7:AO39,11,FALSE),"") | V18: Format barquettes inclus | W18: =IFERROR(HLOOKUP(W11,'Référencement'!B7:AW39,11,FALSE),"")
F19: Cadence (Barquettes / mn) | G19: =IFERROR(HLOOKUP(G11,'Référencement'!B7:AH39,12,FALSE),"") | N19: Cadence (Barquettes / mn) | O19: =IFERROR(HLOOKUP(O11,'Référencement'!B7:AO39,12,FALSE),"") | V19: Cadence (Barquettes / mn) | W19: =IFERROR(HLOOKUP(W11,'Référencement'!B7:AW39,12,FALSE),"")
C20: % de capacité d'emballage : | D20: =IFERROR(TDB!N32/HLOOKUP(CTT!G11,'Référencement'!B7:AH43,36,FALSE),"") | K20: % de capacité d'emballage : | L20: =IFERROR(TDB!N32/HLOOKUP(CTT!O11,'Référencement'!B7:AH43,36,FALSE),"") | S20: % de capacité d'emballage : | T20: =IFERROR(TDB!N32/HLOOKUP(CTT!W11,'Référencement'!B7:AH43,36,FALSE),"")
F21: Prix | N21: Prix | V21: Prix
A22: =IF(D20="","",IF(D20>1,"Attention capacité d'emballage dépassée","")) | I22: =IF(L20="","",IF(L20>1,"Attention capacité d'emballage dépassée","")) | Q22: =IF(T20="","",IF(T20>1,"Attention capacité d'emballage dépassée",""))
F23: Prix Matériel HT | G23: =IFERROR(HLOOKUP(G11,'Référencement'!B7:AH39,13,FALSE),"") | N23: Prix Matériel HT | O23: =IFERROR(HLOOKUP(O11,'Référencement'!B7:AO39,13,FALSE),"") | V23: Prix Matériel HT | W23: =IFERROR(HLOOKUP(W11,'Référencement'!B7:AW39,13,FALSE),"")
F25: Prix équipement total HT (Prix Matériel + Pesage + Installation GAZ + Prix compresseur) | G25: =IFERROR(HLOOKUP(G11,'Référencement'!B7:AH39,17,FALSE),"") | N25: Prix équipement total HT (Prix Matériel + Pesage + Installation GAZ + Prix compresseur) | O25: =IFERROR(HLOOKUP(O11,'Référencement'!B7:AO39,17,FALSE),"") | V25: Prix équipement total HT (Prix Matériel + Pesage + Installation GAZ + Prix compresseur) | W25: =IFERROR(HLOOKUP(W11,'Référencement'!B7:AW39,17,FALSE),"")
F26: Prix avec option skin | G26: =IFERROR(HLOOKUP(G11,'Référencement'!B7:AH39,18,FALSE),"") | N26: Prix avec option skin | O26: =IFERROR(HLOOKUP(O11,'Référencement'!B7:AO39,18,FALSE),"") | V26: Prix avec option skin | W26: =IFERROR(HLOOKUP(W11,'Référencement'!B7:AW39,18,FALSE),"")
F27: Coût amortissement matériel sur 5 ans | G27: =IFERROR(HLOOKUP(G11,'Référencement'!B7:AH39,19,FALSE),"") | N27: Coût amortissement matériel sur 5 ans | O27: =IFERROR(HLOOKUP(O11,'Référencement'!B7:AO39,19,FALSE),"") | V27: Coût amortissement matériel sur 5 ans | W27: =IFERROR(HLOOKUP(W11,'Référencement'!B7:AW39,19,FALSE),"")
F28: Prix total HT (équipement + maintenance) sur 5 ans | G28: =IFERROR(HLOOKUP(G11,'Référencement'!B7:AH39,25,FALSE),"") | N28: Prix total HT (équipement + maintenance) sur 5 ans | O28: =IFERROR(HLOOKUP(O11,'Référencement'!B7:AO39,25,FALSE),"") | V28: Prix total HT (équipement + maintenance) sur 5 ans | W28: =IFERROR(HLOOKUP(W11,'Référencement'!B7:AW39,25,FALSE),"")
F29: Prix total HT (équipement + maintenance) sur 1 an | G29: =IFERROR(G28/5,"") -> 0 | N29: Prix total HT (équipement + maintenance) sur 1 an | O29: =IFERROR(O28/5,"") -> 0 | V29: Prix total HT (équipement + maintenance) sur 1 an | W29: =IFERROR(W28/5,"") -> 0
F31: Coût économat | G31: =IFERROR(HLOOKUP(G11,'Référencement'!B7:AH50,31,FALSE),"") | N31: Coût économat | O31: =IFERROR(HLOOKUP(O11,'Référencement'!B7:AO50,31,FALSE),"") | V31: Coût économat | W31: =IFERROR(HLOOKUP(W11,'Référencement'!B7:AW50,31,FALSE),"")
F32: Coût annuel Appro gaz | G32: =IFERROR(HLOOKUP(G11,'Référencement'!B7:AH50,33,FALSE),"") | N32: Coût annuel Appro gaz | O32: =IFERROR(HLOOKUP(O11,'Référencement'!B7:AO50,33,FALSE),"") | V32: Coût annuel Appro gaz | W32: =IFERROR(HLOOKUP(W11,'Référencement'!B7:AW50,33,FALSE),"")
F33: CA ANNUEL EN UVCM MINIMUM POUR ÊTRE RENTABLE | G33: =IFERROR(HLOOKUP(G11,'Référencement'!B7:AH50,37,FALSE),"") | N33: CA ANNUEL EN UVCM MINIMUM POUR ÊTRE RENTABLE | O33: =IFERROR(HLOOKUP(O11,'Référencement'!B7:AO50,37,FALSE),"") | V33: CA ANNUEL EN UVCM MINIMUM POUR ÊTRE RENTABLE | W33: =IFERROR(HLOOKUP(W11,'Référencement'!B7:AW50,37,FALSE),"")
A35: SOUS VIDE
A37: SOUS VIDE | I37: SOUS SKIN | Q37: SOUS SKIN
F38: Informations MACHINE 1 | N38: Informations MACHINE 2 | V38: Informations MACHINE 3
F40: Nom : | G40: {=IFERROR(INDEX(tableau!M:M,LARGE(IF((tableau!A:A=CTT!A37)*(TDB!N38>=tableau!F:F)*(TDB!N38<=tableau!G:G),ROW(tableau!M:M),""),1)),"Pas de Machine Sous Skin de disponible par rapport à votre nombre de barquette")} -> Pas de Machine Sous Skin de disponible par rapport à votre nombre de barquette | N40: Nom : | O40: {=IFERROR(INDEX(tableau!N:N,LARGE(IF((tableau!A:A=CTT!A37)*(TDB!N38>=tableau!F:F)*(TDB!N38<=tableau!G:G),ROW(tableau!N:N),""),1)),"Pas de Machine Sous Skin de disponible par rapport à votre nombre de barquette")} -> Pas de Machine Sous Skin de disponible par rapport à votre nombre de barquette | V40: Nom : | W40: {=IFERROR(INDEX(tableau!O:O,LARGE(IF((tableau!A:A=CTT!A37)*(TDB!N38>=tableau!F:F)*(TDB!N38<=tableau!G:G),ROW(tableau!O:O),""),1)),"Pas de Machine Sous Skin de disponible par rapport à votre nombre de barquette")} -> Pas de Machine Sous Skin de disponible par rapport à votre nombre de barquette
F42: Fournisseur: | G42: =IFERROR(HLOOKUP(G40,'Référencement'!B7:AH39,5,FALSE),"") | N42: Fournisseur: | O42: =IFERROR(HLOOKUP(O40,'Référencement'!B7:AP39,5,FALSE),"") | V42: Fournisseur: | W42: =IFERROR(HLOOKUP(W40,'Référencement'!B7:AX39,5,FALSE),"")
F43: Lien sur Catanoma : | G43: =IFERROR(HYPERLINK(TRIM(HLOOKUP(G40,'Référencement'!B7:AH55,38,FALSE)), TRIM(HLOOKUP(G40,'Référencement'!B7:AH39,7,FALSE))),"") | N43: Lien sur Catanoma : | O43: =IFERROR(HYPERLINK(TRIM(HLOOKUP(O40,'Référencement'!B7:AP55,38,FALSE)), TRIM(HLOOKUP(O40,'Référencement'!B7:AP39,7,FALSE))),"") | V43: Lien sur Catanoma : | W43: =IFERROR(HYPERLINK(TRIM(HLOOKUP(W40,'Référencement'!B7:AX55,38,FALSE)), TRIM(HLOOKUP(W40,'Référencement'!B7:AX39,7,FALSE))),"")
F44: DLC produits PLM (découpe poisson, poisson entier) | G44: =IFERROR(HLOOKUP(G40,'Référencement'!B7:AH39,8,FALSE),"") | N44: DLC produits PLM (découpe poisson, poisson entier) | O44: =IFERROR(HLOOKUP(O40,'Référencement'!B7:AP39,8,FALSE),"") | V44: DLC produits PLM (découpe poisson, poisson entier) | W44: =IFERROR(HLOOKUP(W40,'Référencement'!B7:AX39,8,FALSE),"")
F45: DLC produits CTT MAX | G45: =IFERROR(HLOOKUP(G40,'Référencement'!B7:AI46,39,FALSE),"") | N45: DLC produits CTT MAX | O45: =IFERROR(HLOOKUP(O40,'Référencement'!B7:AI46,39,FALSE),"") | V45: DLC produits CTT MAX | W45: =IFERROR(HLOOKUP(W40,'Référencement'!B7:AI46,39,FALSE),"")
F46: Type | G46: =IFERROR(HLOOKUP(G40,'Référencement'!B7:AH39,10,FALSE),"") | N46: Type | O46: =IFERROR(HLOOKUP(O40,'Référencement'!B7:AP39,10,FALSE),"") | V46: Type | W46: =IFERROR(HLOOKUP(W40,'Référencement'!B7:AX39,10,FALSE),"")
F47: Format barquettes inclus | G47: =IFERROR(HLOOKUP(G40,'Référencement'!B7:AH39,11,FALSE),"") | N47: Format barquettes inclus | O47: =IFERROR(HLOOKUP(O40,'Référencement'!B7:AP39,11,FALSE),"") | V47: Format barquettes inclus | W47: =IFERROR(HLOOKUP(W40,'Référencement'!B7:AX39,11,FALSE),"")
F48: Cadence (Barquettes / mn) | G48: =IFERROR(HLOOKUP(G40,'Référencement'!B7:AH39,12,FALSE),"") | N48: Cadence (Barquettes / mn) | O48: =IFERROR(HLOOKUP(O40,'Référencement'!B7:AP39,12,FALSE),"") | V48: Cadence (Barquettes / mn) | W48: =IFERROR(HLOOKUP(W40,'Référencement'!B7:AX39,12,FALSE),"")
C49: % de capacité d'emballage : | D49: =IFERROR(TDB!N32/HLOOKUP(CTT!G40,'Référencement'!B7:AH43,36,FALSE),"") | K49: % de capacité d'emballage : | L49: =IFERROR(TDB!N32/HLOOKUP(CTT!O40,'Référencement'!B7:AH43,36,FALSE),"") | S49: % de capacité d'emballage : | T49: =IFERROR(TDB!N32/HLOOKUP(CTT!W40,'Référencement'!B7:AH43,36,FALSE),"")
F50: Prix | N50: Prix | V50: Prix
A51: =IF(D49="","",IF(D49>1,"Attention capacité d'emballage dépassée","")) | I51: =IF(L49="","",IF(L49>1,"Attention capacité d'emballage dépassée","")) | Q51: =IF(T49="","",IF(T49>1,"Attention capacité d'emballage dépassée",""))
F52: Prix Matériel HT | G52: =IFERROR(HLOOKUP(G40,'Référencement'!B7:AH39,13,FALSE),"") | N52: Prix Matériel HT | O52: =IFERROR(HLOOKUP(O40,'Référencement'!B7:AP39,13,FALSE),"") | V52: Prix Matériel HT | W52: =IFERROR(HLOOKUP(W40,'Référencement'!B7:AX39,13,FALSE),"")
...

Sheet FC
A1: Recommandations FC
B4: Les technologies se trouvent les unes en dessous des autres. Si vous n'avez pas de machine préconisée pour le sous-atmosphère, il vous faut regarder en dessous pour voir quelle technologie correspond le mieux à votre besoin. Pour le % de capacité d'emballe = Le chiffre correspond au nombre de barquettes prévisionnelles sur le nombre de barquette que la machine peut réaliser
A6: Sous atmosphère
A8: SOUS MAP | I8: SOUS MAP | Q8: SOUS MAP
F9: Informations MACHINE 1 | N9: Informations MACHINE 2 | V9: Informations MACHINE 3
F11: Nom : | G11: {=IFERROR(INDEX(tableau!M:M,LARGE(IF((tableau!A:A=FC!A8)*(TDB!N32>=tableau!F:F)*(TDB!N32<=tableau!G:G),ROW(tableau!M:M),""),1)),"Pas de Machine Sous Atmosphère de disponible par rapport à votre nombre de barquette")} -> Pas de Machine Sous Atmosphère de disponible par rapport à votre nombre de barquette | N11: Nom : | O11: {=IFERROR(INDEX(tableau!N:N,LARGE(IF((tableau!A:A=FC!A8)*(TDB!N32>=tableau!F:F)*(TDB!N32<=tableau!G:G),ROW(tableau!N:N),""),1)),"Pas de Machine Sous Atmosphère de disponible par rapport à votre nombre de barquette")} -> Pas de Machine Sous Atmosphère de disponible par rapport à votre nombre de barquette | V11: Nom : | W11: {=IFERROR(INDEX(tableau!O:O,LARGE(IF((tableau!A:A=FC!A8)*(TDB!N32>=tableau!F:F)*(TDB!N32<=tableau!G:G),ROW(tableau!O:O),""),1)),"Pas de Machine Sous Atmosphère de disponible par rapport à votre nombre de barquette")} -> Pas de Machine Sous Atmosphère de disponible par rapport à votre nombre de barquette
F13: Fournisseur: | G13: =IFERROR(HLOOKUP(G11,'Référencement'!B7:AH39,5,FALSE),"") | N13: Fournisseur: | O13: =IFERROR(HLOOKUP(O11,'Référencement'!B7:AO39,5,FALSE),"") | V13: Fournisseur: | W13: =IFERROR(HLOOKUP(W11,'Référencement'!B7:AW39,5,FALSE),"")
F14: Lien sur Catanoma : | G14: =IFERROR(HYPERLINK(TRIM(HLOOKUP(G11,'Référencement'!B7:AH55,38,FALSE)), TRIM(HLOOKUP(G11,'Référencement'!B7:AH39,7,FALSE))),"") | N14: Lien sur Catanoma : | O14: =IFERROR(HYPERLINK(TRIM(HLOOKUP(O11,'Référencement'!B7:AO55,38,FALSE)), TRIM(HLOOKUP(O11,'Référencement'!B7:AO39,7,FALSE))),"") | V14: Lien sur Catanoma : | W14: =IFERROR(HYPERLINK(TRIM(HLOOKUP(W11,'Référencement'!B7:AW55,38,FALSE)), TRIM(HLOOKUP(W11,'Référencement'!B7:AW39,7,FALSE))),"")
F15: DLC produits PLM (découpe poisson, poisson entier) | G15: =IFERROR(HLOOKUP(G11,'Référencement'!B7:AH39,8,FALSE),"") | N15: DLC produits PLM (découpe poisson, poisson entier) | O15: =IFERROR(HLOOKUP(O11,'Référencement'!B7:AH39,8,FALSE),"") | V15: DLC produits PLM (découpe poisson, poisson entier) | W15: =IFERROR(HLOOKUP(W11,'Référencement'!B7:AH39,8,FALSE),"")
F16: DLC produits BVO MAX | G16: =IFERROR(HLOOKUP(G11,'Référencement'!B7:AH39,9,FALSE),"") | N16: DLC produits BVO MAX | O16: =IFERROR(HLOOKUP(O11,'Référencement'!B7:AO39,9,FALSE),"") | V16: DLC produits BVO MAX | W16: =IFERROR(HLOOKUP(W11,'Référencement'!B7:AW39,9,FALSE),"")
F17: Type | G17: =IFERROR(HLOOKUP(G11,'Référencement'!B7:AH39,10,FALSE),"") | N17: Type | O17: =IFERROR(HLOOKUP(O11,'Référencement'!B7:AO39,10,FALSE),"") | V17: Type | W17: =IFERROR(HLOOKUP(W11,'Référencement'!B7:AW39,10,FALSE),"")
F18: Format barquettes inclus | G18: =IFERROR(HLOOKUP(G11,'Référencement'!B7:AH39,11,FALSE),"") | N18: Format barquettes inclus | O18: =IFERROR(HLOOKUP(O11,'Référencement'!B7:AO39,11,FALSE),"") | V18: Format barquettes inclus | W18: =IFERROR(HLOOKUP(W11,'Référencement'!B7:AW39,11,FALSE),"")
F19: Cadence (Barquettes / mn) | G19: =IFERROR(HLOOKUP(G11,'Référencement'!B7:AH39,12,FALSE),"") | N19: Cadence (Barquettes / mn) | O19: =IFERROR(HLOOKUP(O11,'Référencement'!B7:AO39,12,FALSE),"") | V19: Cadence (Barquettes / mn) | W19: =IFERROR(HLOOKUP(W11,'Référencement'!B7:AW39,12,FALSE),"")
C20: % de capacité d'emballage : | D20: =IFERROR(TDB!N32/HLOOKUP(FC!G11,'Référencement'!B7:AH43,36,FALSE),"") | K20: % de capacité d'emballage : | L20: =IFERROR(TDB!N32/HLOOKUP(FC!O11,'Référencement'!B7:AH43,36,FALSE),"") | S20: % de capacité d'emballage : | T20: =IFERROR(TDB!N32/HLOOKUP(FC!W11,'Référencement'!B7:AH43,36,FALSE),"")
F21: Prix | N21: Prix | V21: Prix
A22: =IF(D20="","",IF(D20>1,"Attention capacité d'emballage dépassée","")) | I22: =IF(L20="","",IF(L20>1,"Attention capacité d'emballage dépassée","")) | Q22: =IF(T20="","",IF(T20>1,"Attention capacité d'emballage dépassée",""))
F23: Prix Matériel HT | G23: =IFERROR(HLOOKUP(G11,'Référencement'!B7:AH39,13,FALSE),"") | N23: Prix Matériel HT | O23: =IFERROR(HLOOKUP(O11,'Référencement'!B7:AO39,13,FALSE),"") | V23: Prix Matériel HT | W23: =IFERROR(HLOOKUP(W11,'Référencement'!B7:AW39,13,FALSE),"")
F24: Prix équipement total HT (Prix Matériel + Pesage + Installation GAZ + Prix compresseur) | G24: =IFERROR(HLOOKUP(G11,'Référencement'!B7:AH39,17,FALSE),"") | N24: Prix équipement total HT (Prix Matériel + Pesage + Installation GAZ + Prix compresseur) | O24: =IFERROR(HLOOKUP(O11,'Référencement'!B7:AO39,17,FALSE),"") | V24: Prix équipement total HT (Prix Matériel + Pesage + Installation GAZ + Prix compresseur) | W24: =IFERROR(HLOOKUP(W11,'Référencement'!B7:AW39,17,FALSE),"")
F25: Prix avec option skin | G25: =IFERROR(HLOOKUP(G11,'Référencement'!B7:AH39,18,FALSE),"") | N25: Prix avec option skin | O25: =IFERROR(HLOOKUP(O11,'Référencement'!B7:AO39,18,FALSE),"") | V25: Prix avec option skin | W25: =IFERROR(HLOOKUP(W11,'Référencement'!B7:AW39,18,FALSE),"")
F26: Coût amortissement matériel sur 5 ans | G26: =IFERROR(HLOOKUP(G11,'Référencement'!B7:AH39,19,FALSE),"") | N26: Coût amortissement matériel sur 5 ans | O26: =IFERROR(HLOOKUP(O11,'Référencement'!B7:AO39,19,FALSE),"") | V26: Coût amortissement matériel sur 5 ans | W26: =IFERROR(HLOOKUP(W11,'Référencement'!B7:AW39,19,FALSE),"")
F27: Prix total HT (équipement + maintenance) sur 5 ans | G27: =IFERROR(HLOOKUP(G11,'Référencement'!B7:AH39,25,FALSE),"") | N27: Prix total HT (équipement + maintenance) sur 5 ans | O27: =IFERROR(HLOOKUP(O11,'Référencement'!B7:AO39,25,FALSE),"") | V27: Prix total HT (équipement + maintenance) sur 5 ans | W27: =IFERROR(HLOOKUP(W11,'Référencement'!B7:AW39,25,FALSE),"")
F28: Prix total HT (équipement + maintenance) sur 1 an | G28: =IFERROR(G27/5,"") -> 0 | N28: Prix total HT (équipement + maintenance) sur 1 an | O28: =IFERROR(O27/5,"") -> 0 | V28: Prix total HT (équipement + maintenance) sur 1 an | W28: =IFERROR(W27/5,"") -> 0
F30: Coût économat | G30: =IFERROR(HLOOKUP(G11,'Référencement'!B7:AH50,31,FALSE),"") | N30: Coût économat | O30: =IFERROR(HLOOKUP(O11,'Référencement'!B7:AO50,31,FALSE),"") | V30: Coût économat | W30: =IFERROR(HLOOKUP(W11,'Référencement'!B7:AW50,31,FALSE),"")
F31: Coût annuel Appro gaz | G31: =IFERROR(HLOOKUP(G11,'Référencement'!B7:AH50,33,FALSE),"") | N31: Coût annuel Appro gaz | O31: =IFERROR(HLOOKUP(O11,'Référencement'!B7:AO50,33,FALSE),"") | V31: Coût annuel Appro gaz | W31: =IFERROR(HLOOKUP(W11,'Référencement'!B7:AW50,33,FALSE),"")
F32: CA ANNUEL EN UVCM MINIMUM POUR ÊTRE RENTABLE | G32: =IFERROR(HLOOKUP(G11,'Référencement'!B7:AH50,37,FALSE),"") | N32: CA ANNUEL EN UVCM MINIMUM POUR ÊTRE RENTABLE | O32: =IFERROR(HLOOKUP(O11,'Référencement'!B7:AO50,37,FALSE),"") | V32: CA ANNUEL EN UVCM MINIMUM POUR ÊTRE RENTABLE | W32: =IFERROR(HLOOKUP(W11,'Référencement'!B7:AW50,37,FALSE),"")
A34: Sous atmosphère
A36: SOUS MAP | I36: SOUS SKIN | Q36: SOUS SKIN
F37: Informations MACHINE 1 | N37: Informations MACHINE 2 | V37: Informations MACHINE 3
F39: Nom : | G39: {=IFERROR(INDEX(tableau!M:M,LARGE(IF((tableau!A:A=FC!A36)*(TDB!N36>=tableau!H:H)*(TDB!N36<=tableau!I:I),ROW(tableau!M:M),""),1)),"Pas de Machine Sous Vide de disponible par rapport à votre nombre de barquette")} -> Pas de Machine Sous Vide de disponible par rapport à votre nombre de barquette | N39: Nom : | O39: {=IFERROR(INDEX(tableau!N:N,LARGE(IF((tableau!A:A=FC!A36)*(TDB!N36>=tableau!H:H)*(TDB!N36<=tableau!I:I),ROW(tableau!N:N),""),1)),"Pas de Machine Sous Vide de disponible par rapport à votre nombre de barquette")} -> Pas de Machine Sous Vide de disponible par rapport à votre nombre de barquette | V39: Nom : | W39: {=IFERROR(INDEX(tableau!O:O,LARGE(IF((tableau!A:A=FC!A36)*(TDB!N36>=tableau!H:H)*(TDB!N36<=tableau!I:I),ROW(tableau!O:O),""),1)),"Pas de Machine Sous Vide de disponible par rapport à votre nombre de barquette")} -> Pas de Machine Sous Vide de disponible par rapport à votre nombre de barquette
